BEGIN:VCALENDAR
VERSION:2.0
PRODID:-//ROYAL QUEENSLAND AERO CLUB - ECPv5.3.2.1//NONSGML v1.0//EN
CALSCALE:GREGORIAN
METHOD:PUBLISH
X-WR-CALNAME:ROYAL QUEENSLAND AERO CLUB
X-ORIGINAL-URL:https://rqac.com.au
X-WR-CALDESC:Events for ROYAL QUEENSLAND AERO CLUB
BEGIN:VTIMEZONE
TZID:Australia/Melbourne
BEGIN:STANDARD
TZOFFSETFROM:+1100
TZOFFSETTO:+1000
TZNAME:AEST
DTSTART:20210403T160000
END:STANDARD
BEGIN:DAYLIGHT
TZOFFSETFROM:+1000
TZOFFSETTO:+1100
TZNAME:AEDT
DTSTART:20211002T160000
END:DAYLIGHT
END:VTIMEZONE
BEGIN:VEVENT
DTSTART;TZID=Australia/Melbourne:20210228T070000
DTEND;TZID=Australia/Melbourne:20210228T093000
DTSTAMP:20210227T121804
CREATED:20210212T213936Z
LAST-MODIFIED:20210212T213936Z
UID:791-1614495600-1614504600@rqac.com.au
SUMMARY:Fly away event to - Sunshine Coast Aero Club
DESCRIPTION:So book your planes\, contact Flight Standards for a members offer rates and lets visit the SCAC. \nThe Sunshine Coast Aero Club will host a fly-in/drive-in breakfast on Sunday 28 February 2021. Why not build it into your training flight or come for the whole day and explore the Sunshine Coast’s magnificent beaches. \nWhen: 7:30am to 9:30am\nWhere: Sunshine Coast Aero Club\, Sunshine Coast Airport.\nVisiting aircraft: Class D airspace active 0730h (Class G CTAF prior) – refer to the ERSA. GA parking available on the grass opposite the Aero Club. Flyer containing additional info available. \nAttendance: Please advise POC of airfield of origin and aircraft details (if applicable)\, number of persons attending and numbers for breakfast at least one day prior.\nCOVID-19 Safe. Please stay at home if you are unwell.\nPOC: Mark Crinnion Tel: 0459984298 Email: markcrinnion@me.com\nWe look forward to welcoming you to the coast 😎
URL:https://rqac.com.au/events/fly-away-event-to-sunshine-coast-aero-club/
END:VEVENT
END:VCALENDAR